BEGIN:VCALENDAR
VERSION:2.0
PRODID:-//Tukios.com/
BEGIN:VEVENT
UID:b7f32eba-414f-4dcf-ab54-b7413dff4499@www.englishfuneralchapel.com
DTSTAMP:20260424T020617Z
DTSTART:20260502T183000Z
DTEND:20260502T193000Z
SUMMARY:Memorial Gathering
DESCRIPTION:
URL:https://www.englishfuneralchapel.com/obituaries/kathryn-lawr
LOCATION:McEuen Park 420 East Front Avenue  Coeur d'Alene ID 83814
GEO:47.6715034;-116.7792033
END:VEVENT
END:VCALENDAR